BEGIN:VCALENDAR
VERSION:2.0
PRODID:-//Northpark Village Square - ECPv6.15.20//NONSGML v1.0//EN
CALSCALE:GREGORIAN
METHOD:PUBLISH
X-WR-CALNAME:Northpark Village Square
X-ORIGINAL-URL:https://northparkvillagesquare.com
X-WR-CALDESC:Events for Northpark Village Square
REFRESH-INTERVAL;VALUE=DURATION:PT1H
X-Robots-Tag:noindex
X-PUBLISHED-TTL:PT1H
BEGIN:VTIMEZONE
TZID:America/New_York
BEGIN:DAYLIGHT
TZOFFSETFROM:-0500
TZOFFSETTO:-0400
TZNAME:EDT
DTSTART:20230312T070000
END:DAYLIGHT
BEGIN:STANDARD
TZOFFSETFROM:-0400
TZOFFSETTO:-0500
TZNAME:EST
DTSTART:20231105T060000
END:STANDARD
BEGIN:DAYLIGHT
TZOFFSETFROM:-0500
TZOFFSETTO:-0400
TZNAME:EDT
DTSTART:20240310T070000
END:DAYLIGHT
BEGIN:STANDARD
TZOFFSETFROM:-0400
TZOFFSETTO:-0500
TZNAME:EST
DTSTART:20241103T060000
END:STANDARD
BEGIN:DAYLIGHT
TZOFFSETFROM:-0500
TZOFFSETTO:-0400
TZNAME:EDT
DTSTART:20250309T070000
END:DAYLIGHT
BEGIN:STANDARD
TZOFFSETFROM:-0400
TZOFFSETTO:-0500
TZNAME:EST
DTSTART:20251102T060000
END:STANDARD
END:VTIMEZONE
BEGIN:VEVENT
DTSTART;TZID=America/New_York:20240427T110000
DTEND;TZID=America/New_York:20240427T140000
DTSTAMP:20260420T083236
CREATED:20240317T230852Z
LAST-MODIFIED:20240317T231105Z
UID:20150-1714215600-1714226400@northparkvillagesquare.com
SUMMARY:Child Safety Fair
DESCRIPTION:A free\, fun and educational event for the whole family!\nLocated behind Circle K\n\n• Bike Safety\n• Mini Self-Defense Clinics\n• Emergency Preparedness Guides\n• Sustainability Education Sessions\n• Fire Truck\n• Face Painting\n• Refreshments\n• Receive a Free Child ID Kit that will include:\nA place for a photo\, a place for finger printing\, and\nareas for your child’s vital information.\nAll information stays with the parents.\n\nRain Date: Sunday\, April 28\, 2024\n\nWhile supplies last. Events subject to change without notice.\nFor more information\, email drbgroupllc@drbgroupllc.com.
URL:https://northparkvillagesquare.com/event/child-safety-fair/
LOCATION:Northpark Village Square\, 27756 McBean Parkway\, Valencia\, 91354\, United States
CATEGORIES:Festival
ATTACH;FMTTYPE=image/jpeg:https://northparkvillagesquare.com/wp-content/uploads/northpark_CSF_slider.jpg
ORGANIZER;CN="DRB Group LLC":MAILTO:luconti@drbgroupllc.com
END:VEVENT
BEGIN:VEVENT
DTSTART;VALUE=DATE:20240426
DTEND;VALUE=DATE:20240514
DTSTAMP:20260420T083236
CREATED:20240426T040048Z
LAST-MODIFIED:20240422T162948Z
UID:20174-1714089600-1715644799@northparkvillagesquare.com
SUMMARY:Mother’s Day $100 Gift Card Giveaway
DESCRIPTION:
URL:https://northparkvillagesquare.com/event/mothers-day-100-gift-card-giveaway/
ATTACH;FMTTYPE=image/png:https://northparkvillagesquare.com/wp-content/uploads/shutterstock_1705301245_mothers-day-2024-3_SQUARE.png
END:VEVENT
END:VCALENDAR